BEGIN:VCALENDAR
VERSION:2.0
PRODID:-//Apollo Sunrise Center - ECPv6.13.0//NONSGML v1.0//EN
CALSCALE:GREGORIAN
METHOD:PUBLISH
X-WR-CALNAME:Apollo Sunrise Center
X-ORIGINAL-URL:https://www.apollosunrise.com
X-WR-CALDESC:Events for Apollo Sunrise Center
REFRESH-INTERVAL;VALUE=DURATION:PT1H
X-Robots-Tag:noindex
X-PUBLISHED-TTL:PT1H
BEGIN:VTIMEZONE
TZID:UTC
BEGIN:STANDARD
TZOFFSETFROM:+0000
TZOFFSETTO:+0000
TZNAME:UTC
DTSTART:20250101T000000
END:STANDARD
END:VTIMEZONE
BEGIN:VEVENT
DTSTART;TZID=UTC:20250518T110000
DTEND;TZID=UTC:20250518T123000
DTSTAMP:20260419T160022
CREATED:20250516T224955Z
LAST-MODIFIED:20250516T224955Z
UID:10000005-1747566000-1747571400@www.apollosunrise.com
SUMMARY:Energy Protection Techniques For Empaths
DESCRIPTION:An immersive workshop tailored for sensitive individuals seeking to enhance their capacity to protect their energy. Attendees will explore a variety of effective strategies aimed at establishing personal boundaries managing emotional overload and preventing burnout all crucial for thriving in today s demanding environment. By the conclusion of this engaging session participants will walk away with practical tools and insights to boost their well-being.
URL:https://www.apollosunrise.com/event/energy-protection-techniques-for-empaths/
LOCATION:Apollo Sunrise Center\, 84 Birch Meadow Rd.\, Merrimac\, MA\, United States
CATEGORIES:Intuition and Mediumship Development
ATTACH;FMTTYPE=image/png:https://www.apollosunrise.com/wp-content/uploads/2025/05/22ef4776-0429-4072-bf89-7190e2bf9138.png
END:VEVENT
BEGIN:VEVENT
DTSTART;TZID=UTC:20250518T130000
DTEND;TZID=UTC:20250518T143000
DTSTAMP:20260419T160022
CREATED:20250516T225200Z
LAST-MODIFIED:20250521T212137Z
UID:10000006-1747573200-1747578600@www.apollosunrise.com
SUMMARY:Creative Community Small Project Circle
DESCRIPTION:Join a nurturing environment designed for creative exploration and community connection. Bring your small projects such as creative journaling collage making sketching knitting adult coloring books\, etc. to work on while engaging in meaningful conversations and sharing inspiration.\n* No Paint *
URL:https://www.apollosunrise.com/event/creative-community-small-project-circle/
LOCATION:Apollo Sunrise Center\, 84 Birch Meadow Rd.\, Merrimac\, MA\, United States
CATEGORIES:Free Classes or Groups
ATTACH;FMTTYPE=image/png:https://www.apollosunrise.com/wp-content/uploads/2025/05/9edf8d25-bc42-4d24-849e-f1e3317b3e5a.png
END:VEVENT
END:VCALENDAR