BEGIN:VCALENDAR
VERSION:2.0
PRODID:-//Apollo Sunrise Center - ECPv6.13.0//NONSGML v1.0//EN
CALSCALE:GREGORIAN
METHOD:PUBLISH
X-ORIGINAL-URL:https://www.apollosunrise.com
X-WR-CALDESC:Events for Apollo Sunrise Center
REFRESH-INTERVAL;VALUE=DURATION:PT1H
X-Robots-Tag:noindex
X-PUBLISHED-TTL:PT1H
BEGIN:VTIMEZONE
TZID:UTC
BEGIN:STANDARD
TZOFFSETFROM:+0000
TZOFFSETTO:+0000
TZNAME:UTC
DTSTART:20250101T000000
END:STANDARD
END:VTIMEZONE
BEGIN:VEVENT
DTSTART;TZID=UTC:20250530T190000
DTEND;TZID=UTC:20250530T203000
DTSTAMP:20260419T142249
CREATED:20250516T225626Z
LAST-MODIFIED:20250526T184537Z
UID:10000007-1748631600-1748637000@www.apollosunrise.com
SUMMARY:Drum Circle
DESCRIPTION:Join us for an evening of rhythm\, release\, and reconnection as we gather in sacred community for a Drum Circle Journey led by Julie and Lauren of Sacred Sounds. This immersive experience is designed to help you drop into your body\, awaken your inner rhythm\, and journey inward through the medicine of drum\, breath\, and sound. Together\, we’ll explore the power of group rhythm\, intuitive drumming\, and sound journeying to shift energy\, clear blocks\, and return to our inner center.\nBring your own instruments or come just as you are!\n*Weather permitting\, we’ll plan to be outside
URL:https://www.apollosunrise.com/event/drum-circle/
LOCATION:Apollo Sunrise Center\, 84 Birch Meadow Rd.\, Merrimac\, MA\, United States
CATEGORIES:Sound Healing
ATTACH;FMTTYPE=image/png:https://www.apollosunrise.com/wp-content/uploads/2025/05/20f3a9c7-aa73-4cc8-aea2-b9f3f1b4e459.png
END:VEVENT
END:VCALENDAR