BEGIN:VCALENDAR
VERSION:2.0
PRODID:-//Apollo Sunrise Center - ECPv6.13.0//NONSGML v1.0//EN
CALSCALE:GREGORIAN
METHOD:PUBLISH
X-ORIGINAL-URL:https://www.apollosunrise.com
X-WR-CALDESC:Events for Apollo Sunrise Center
REFRESH-INTERVAL;VALUE=DURATION:PT1H
X-Robots-Tag:noindex
X-PUBLISHED-TTL:PT1H
BEGIN:VTIMEZONE
TZID:UTC
BEGIN:STANDARD
TZOFFSETFROM:+0000
TZOFFSETTO:+0000
TZNAME:UTC
DTSTART:20250101T000000
END:STANDARD
END:VTIMEZONE
BEGIN:VEVENT
DTSTART;TZID=UTC:20250615T110000
DTEND;TZID=UTC:20250615T123000
DTSTAMP:20260419T142249
CREATED:20250516T234832Z
LAST-MODIFIED:20250521T212622Z
UID:10000020-1749985200-1749990600@www.apollosunrise.com
SUMMARY:Pendulum Magic: Learn to Trust your Intuition
DESCRIPTION:Are you drawn to pendulums but not sure how to begin? This hands-on class is your invitation to connect with this beautiful tool for guidance\, clarity\, and inner wisdom. \nYou’ll receive your own pendulum to take home\, and together we’ll explore: \nHow to energetically cleanse and connect with your pendulum \nThe best ways to ask questions and receive accurate answers \nHow to interpret its movements with trust and confidence \nHow to use it for daily decision-making\, self-healing\, and intuitive development \nClearing blocks and building a stronger relationship with your inner guidance \nWhether you’re brand new or want to deepen your practice\, this class will empower you to use your pendulum as a trusted extension of your intuition. \nCome with an open heart—you’ll leave with a new tool\, a new skill\, and a deeper trust in yourself. \nAll materials included. No experience needed.
URL:https://www.apollosunrise.com/event/pendulum-magic-learn-to-trust-your-intuition/
LOCATION:Apollo Sunrise Center\, 84 Birch Meadow Rd.\, Merrimac\, MA\, United States
CATEGORIES:Tools of Divination
ATTACH;FMTTYPE=image/png:https://www.apollosunrise.com/wp-content/uploads/2025/05/1b6cfa8f-1956-4342-9e31-24d1707f2ffd.png
END:VEVENT
END:VCALENDAR