BEGIN:VCALENDAR
VERSION:2.0
PRODID:-//Apollo Sunrise Center - ECPv6.13.0//NONSGML v1.0//EN
CALSCALE:GREGORIAN
METHOD:PUBLISH
X-ORIGINAL-URL:https://www.apollosunrise.com
X-WR-CALDESC:Events for Apollo Sunrise Center
REFRESH-INTERVAL;VALUE=DURATION:PT1H
X-Robots-Tag:noindex
X-PUBLISHED-TTL:PT1H
BEGIN:VTIMEZONE
TZID:America/New_York
BEGIN:DAYLIGHT
TZOFFSETFROM:-0500
TZOFFSETTO:-0400
TZNAME:EDT
DTSTART:20260308T070000
END:DAYLIGHT
BEGIN:STANDARD
TZOFFSETFROM:-0400
TZOFFSETTO:-0500
TZNAME:EST
DTSTART:20261101T060000
END:STANDARD
END:VTIMEZONE
BEGIN:VEVENT
DTSTART;TZID=America/New_York:20260222T130000
DTEND;TZID=America/New_York:20260222T150000
DTSTAMP:20260419T085302
CREATED:20260116T221449Z
LAST-MODIFIED:20260116T221449Z
UID:10000410-1771765200-1771772400@www.apollosunrise.com
SUMMARY:Akashic Record Exploration & Healing
DESCRIPTION:Akashic Record Exploration & Healing: A guided evening of insight\, release\, and reconnection to your soul’s truth. \nWhat if you could access the wisdom of your soul—and open a pathway to healing and everyday clarity? \nIn this experiential evening with the Akashic Records\, you’ll be guided into the energetic field that holds the keys to your soul’s journey across time. Often described as the “library of your soul\,” the Records are a space of deep peace\, clarity\, and unconditional love—where you can receive insight into anything from your soul’s purpose to long-held\, hidden blocks\, whose roots are often past life or ancestral. \nTogether\, we’ll explore what the Records are\, how they work\, and experience powerful group clearings. During this sacred evening\, Sarah will open a portal for the group into the Akashic Field for all to experience clarity\, peace\, and healing. You’ll be gently guided to identify the personal blocks\, questions\, and gifts your soul most wants to explore so the group clearings can meet you exactly where you are. \nWe will discuss and use the Akashic field to do clearings on:\n• Release resistance and blocks to taking aligned action—letting go of emotions and patterns that aren’t truly ours\n• Strengthening self-trust and release fear of the unknown\n• Dissolving the pain of being silenced across lifetimes\, deepening your connection with your own power\n• Activating and bring online more of your innate\, soul-level talents\nYou’ll receive a handout of Akashic Invocations to support your continued practice at home
URL:https://www.apollosunrise.com/event/akashic-record-exploration-healing/
LOCATION:Apollo Sunrise Center\, 84 Birch Meadow Rd.\, Merrimac\, MA\, United States
CATEGORIES:Akashic Records
ATTACH;FMTTYPE=image/png:https://www.apollosunrise.com/wp-content/uploads/2026/01/Akashic-records-exploration-and-healing-event.png
END:VEVENT
END:VCALENDAR