BEGIN:VCALENDAR
VERSION:2.0
PRODID:-//Apollo Sunrise Center - ECPv6.13.0//NONSGML v1.0//EN
CALSCALE:GREGORIAN
METHOD:PUBLISH
X-ORIGINAL-URL:https://www.apollosunrise.com
X-WR-CALDESC:Events for Apollo Sunrise Center
REFRESH-INTERVAL;VALUE=DURATION:PT1H
X-Robots-Tag:noindex
X-PUBLISHED-TTL:PT1H
BEGIN:VTIMEZONE
TZID:America/New_York
BEGIN:DAYLIGHT
TZOFFSETFROM:-0500
TZOFFSETTO:-0400
TZNAME:EDT
DTSTART:20260308T070000
END:DAYLIGHT
BEGIN:STANDARD
TZOFFSETFROM:-0400
TZOFFSETTO:-0500
TZNAME:EST
DTSTART:20261101T060000
END:STANDARD
END:VTIMEZONE
BEGIN:VEVENT
DTSTART;TZID=America/New_York:20260124T110000
DTEND;TZID=America/New_York:20260124T123000
DTSTAMP:20260419T114735
CREATED:20251230T195213Z
LAST-MODIFIED:20251231T194113Z
UID:10000288-1769252400-1769257800@www.apollosunrise.com
SUMMARY:The Elemental Connection: Working with Earth\, Air\, Fire\, and Water
DESCRIPTION:The Elemental Connection: Working with Earth\, Air\, Fire\, and WaterLed by Leah M. Hill \nDeepen your bond with nature by exploring the four classical elements—Earth\, Air\, Fire\, and Water. In this experiential workshop\, you’ll discover how each element influences your energy\, emotions\, and environment. \nThrough a combination of guided meditation\, hands-on activities\, and group discussion\, you’ll learn practical ways to engage with these elemental forces to cultivate balance\, creativity\, and spiritual growth. \nYou’ll walk away with tools to: \n\nGround yourself with Earth for stability and nourishment\nExpand your mindset with Air for clarity and insight\nIgnite your passions with Fire for motivation and transformation\nFlow with Water for emotional healing and adaptability\n\nDiscover how connecting with the elements can ground\, inspire\, and energize your life.
URL:https://www.apollosunrise.com/event/the-elemental-connection-working-with-earth-air-fire-and-water/
LOCATION:Apollo Sunrise Center\, 84 Birch Meadow Rd.\, Merrimac\, MA\, United States
CATEGORIES:Earth Healing Groups & Classes
ATTACH;FMTTYPE=image/jpeg:https://www.apollosunrise.com/wp-content/uploads/2025/12/https-cdn.evbuc_.com-images-1109086123-2488759528191-1-original.20250829-211542.jpeg
END:VEVENT
END:VCALENDAR