BEGIN:VCALENDAR
VERSION:2.0
PRODID:-//Apollo Sunrise Center - ECPv6.13.0//NONSGML v1.0//EN
CALSCALE:GREGORIAN
METHOD:PUBLISH
X-WR-CALNAME:Apollo Sunrise Center
X-ORIGINAL-URL:https://www.apollosunrise.com
X-WR-CALDESC:Events for Apollo Sunrise Center
REFRESH-INTERVAL;VALUE=DURATION:PT1H
X-Robots-Tag:noindex
X-PUBLISHED-TTL:PT1H
BEGIN:VTIMEZONE
TZID:America/New_York
BEGIN:DAYLIGHT
TZOFFSETFROM:-0500
TZOFFSETTO:-0400
TZNAME:EDT
DTSTART:20260308T070000
END:DAYLIGHT
BEGIN:STANDARD
TZOFFSETFROM:-0400
TZOFFSETTO:-0500
TZNAME:EST
DTSTART:20261101T060000
END:STANDARD
END:VTIMEZONE
BEGIN:VEVENT
DTSTART;TZID=America/New_York:20260315T150000
DTEND;TZID=America/New_York:20260315T163000
DTSTAMP:20260419T233301
CREATED:20260126T182838Z
LAST-MODIFIED:20260210T174854Z
UID:10000490-1773586800-1773592200@www.apollosunrise.com
SUMMARY:Get to Know the Archangels: Who They Are and How to Work with Them
DESCRIPTION:Hosted by Leah M. HillTransformational Energy Healer • Intuitive Medium • Sacred Guide \nStep into the light of divine guidance.In this inspiring and heart-opening workshop\, you’ll be introduced to the Archangels—powerful beings of light who serve as protectors\, healers\, and messengers from the highest realms. Each Archangel carries a unique energy\, purpose\, and presence—and they’re available to support you more than you may realize. \nWhether you’re just beginning to explore angelic connections or looking to deepen your relationship with specific Archangels\, this class offers a powerful opportunity to connect\, receive\, and align. \n🪽 In this workshop\, you will:\n\nLearn who the primary Archangels are and their areas of divine service\nDiscover how to recognize and connect with their unique energy\nExplore practical ways to call on Archangelic support for protection\, healing\, clarity\, creativity\, and more\nExperience guided meditations to help you attune to their frequencies\nReceive tools\, prayers\, and rituals for working with Archangels in your daily life\n\n💫 You’ll walk away with:\n\nA stronger connection to the Archangels and your own spiritual team\nIncreased clarity\, confidence\, and trust in your inner guidance\nA personalized experience of angelic energy you can return to again and again\n\nAll are welcome—no previous experience required. Just bring your curiosity\, openness\, and a willingness to connect. \n✨ The Archangels are waiting to support your journey. Learn how to meet them. ✨
URL:https://www.apollosunrise.com/event/get-to-know-the-archangels-who-they-are-and-how-to-work-with-them-2/
LOCATION:Apollo Sunrise Center\, 84 Birch Meadow Rd.\, Merrimac\, MA\, United States
CATEGORIES:Earth Healing Groups & Classes,Tools of Divination
ATTACH;FMTTYPE=image/png:https://www.apollosunrise.com/wp-content/uploads/2026/01/Embodying-divine-light-and-wisdom.png
END:VEVENT
BEGIN:VEVENT
DTSTART;TZID=America/New_York:20260318T170000
DTEND;TZID=America/New_York:20260318T183000
DTSTAMP:20260419T233301
CREATED:20260212T214827Z
LAST-MODIFIED:20260212T214827Z
UID:10000688-1773853200-1773858600@www.apollosunrise.com
SUMMARY:Birthing the New Earth: Activating Higher Consciousness
DESCRIPTION:Awaken higher consciousness & align with the New Earth. Join Leah M. Hill to release blocks & activate your role in global transformation.\n\n\n\nBirthing the New Earth: Activating Higher Consciousness\nLed by Leah M. Hill\nAwaken. Align. Co-Create a Brighter Future. \nWe are living in a time of great awakening. In Birthing the New Earth: Activating Higher Consciousness\, you are invited to explore how to align with the energies of the New Earthand step fully into your role as a conscious co-creator of a more harmonious world. \nLed by Leah M. Hill\, intuitive medium and transformational energy healer\, this workshop combines guided meditation\, visualization\, and group discussion to help you access higher states of awareness\, release limiting beliefs\, and embody the light needed to support global transformation. \nIn this workshop\, you will:\n\nExplore the energies and opportunities of the New Earth\nActivate higher states of consciousness and awareness\nParticipate in guided meditations and visualizations to connect with your inner wisdom\nRelease beliefs and patterns that hold you back from your highest potential\nDiscover your unique role as a co-creator of positive change\nConnect with a community of like-minded souls devoted to conscious evolution\n\nNo experience necessary—just bring your presence\, curiosity\, and an open heart. \n✨ Awaken to the possibilities. Align with the New Earth. Embody your highest self.
URL:https://www.apollosunrise.com/event/birthing-the-new-earth-activating-higher-consciousness-4/
LOCATION:Apollo Sunrise Center\, 84 Birch Meadow Rd.\, Merrimac\, MA\, United States
CATEGORIES:Earth Healing Groups & Classes,Workshops for All Learners
ATTACH;FMTTYPE=image/jpeg:https://www.apollosunrise.com/wp-content/uploads/2026/02/https-cdn.evbuc_.com-images-1074957653-2824368369561-1-original.20250716-170751.jpeg
END:VEVENT
BEGIN:VEVENT
DTSTART;TZID=America/New_York:20260503T100000
DTEND;TZID=America/New_York:20260503T120000
DTSTAMP:20260419T233301
CREATED:20260314T122909Z
LAST-MODIFIED:20260403T190822Z
UID:10000923-1777802400-1777809600@www.apollosunrise.com
SUMMARY:Your Soul Remembers: Akashic Records Exploration & Healing
DESCRIPTION:Your Soul Remembers: Akashic Records Exploration & Healing \nA guided afternoon of insight\, release\, and reconnection to your soul’s truth. \nWhat if you could access the wisdom of your soul—and open a pathway to healing and everyday clarity? \nIn this experiential session with the Akashic Records\, you’ll be guided into the energetic field that holds the keys to your soul’s journey across time. Often described as the “library of your soul\,” the Records are a space of deep peace\, clarity\, and unconditional love—where you can receive insight into anything from your soul’s purpose to long-held\, hidden blocks\, whose roots are often past life or ancestral. \nTogether\, we’ll explore what the Records are\, how they work\, and experience powerful group clearings. During this session\, Sarah will open a portal for the group into the Akashic Field for all to experience clarity\, peace\, and healing. If you’ve attended one of Sarah’s Akashic events before\, know that each gathering uniquely attunes to the highest and best clearings for the gathered group. The Akashic field will support what’s moving in your inner world — the questions\, patterns\, or thresholds that are ready to shift — and the group clearings will meet you there. No two sessions are ever the same. \nThis month\, we’ll explore discernment and intuition—why we sometimes outsource our knowing\, what blocks our inner clarity\, and how to reconnect to the deeper intelligence that lives beneath self-doubt. We’ll: \n· Attune your intuition through a third‑eye activation \n· Work with the Akashic Field to identify what’s clouding your discernment \n· Look at the places where discernment gets blocked by fear\, grief\, or old soul contracts \n· Restore your etheric wings to support you in moments when you feel trapped by lack of choice or clarity \nYou’ll receive a handout of Akashic Invocations to support your continued practice at home and feel more awake in your true knowing.
URL:https://www.apollosunrise.com/event/your-soul-remembers-akashic-records-exploration-healing/
LOCATION:Apollo Sunrise Center\, 84 Birch Meadow Rd.\, Merrimac\, MA\, United States
CATEGORIES:Akashic Records,Earth Healing Groups & Classes,Workshops,Workshops for All Learners
ATTACH;FMTTYPE=image/png:https://www.apollosunrise.com/wp-content/uploads/2026/03/May3-Sarah.png
END:VEVENT
END:VCALENDAR