BEGIN:VCALENDAR
VERSION:2.0
PRODID:-//Apollo Sunrise Center - ECPv6.13.0//NONSGML v1.0//EN
CALSCALE:GREGORIAN
METHOD:PUBLISH
X-WR-CALNAME:Apollo Sunrise Center
X-ORIGINAL-URL:https://www.apollosunrise.com
X-WR-CALDESC:Events for Apollo Sunrise Center
REFRESH-INTERVAL;VALUE=DURATION:PT1H
X-Robots-Tag:noindex
X-PUBLISHED-TTL:PT1H
BEGIN:VTIMEZONE
TZID:UTC
BEGIN:STANDARD
TZOFFSETFROM:+0000
TZOFFSETTO:+0000
TZNAME:UTC
DTSTART:20250101T000000
END:STANDARD
END:VTIMEZONE
BEGIN:VTIMEZONE
TZID:America/New_York
BEGIN:DAYLIGHT
TZOFFSETFROM:-0500
TZOFFSETTO:-0400
TZNAME:EDT
DTSTART:20250309T070000
END:DAYLIGHT
BEGIN:STANDARD
TZOFFSETFROM:-0400
TZOFFSETTO:-0500
TZNAME:EST
DTSTART:20251102T060000
END:STANDARD
END:VTIMEZONE
BEGIN:VEVENT
DTSTART;TZID=UTC:20250809T130000
DTEND;TZID=UTC:20250809T143000
DTSTAMP:20260419T160025
CREATED:20250711T002220Z
LAST-MODIFIED:20250711T002632Z
UID:10000072-1754744400-1754749800@www.apollosunrise.com
SUMMARY:Spiritual Exploration Meetup
DESCRIPTION:Spiritual Exploration MeetupReal Conversations. Open Hearts. Expanding Awareness. \nAre you seeking a space where you can explore life’s deeper questions\, share your truth\, and connect with others on a similar path? \nThe Spiritual Exploration Meetup is a welcoming\, heart-centered gathering where open-minded individuals come together to share spiritual experiences\, ask meaningful questions\, and expand their understanding of themselves and the world around them. \nEach session is centered around a thoughtfully chosen theme—ranging from intuition and past lives to healing\, consciousness\, and universal truths—creating space for open dialogue\, personal reflection\, and collective wisdom. \nIn this meetup\, you will: \n\n\nEngage in thoughtful\, supportive conversations on spiritual topics \n\n\nShare your personal experiences and insights in a safe\, nonjudgmental space \n\n\nLearn from the diverse perspectives of others on a spiritual journey \n\n\nDeepen your awareness and feel more connected—to yourself and the collective \n\n\nWhether you’re just beginning your spiritual path or have been walking it for years\, you are welcome here. There’s no dogma\, no pressure—just genuine connection\, soul-nourishing conversation\, and a space to be exactly who you are. \nCome curious. Leave inspired. Return often.
URL:https://www.apollosunrise.com/event/spiritual-exploration-meetup-4/
LOCATION:Apollo Sunrise Center\, 84 Birch Meadow Rd.\, Merrimac\, MA\, United States
CATEGORIES:Free Classes or Groups
ATTACH;FMTTYPE=image/jpeg:https://www.apollosunrise.com/wp-content/uploads/2025/07/IMG_2294-scaled.jpg
END:VEVENT
BEGIN:VEVENT
DTSTART;TZID=UTC:20250809T150000
DTEND;TZID=UTC:20250809T163000
DTSTAMP:20260419T160025
CREATED:20250711T002943Z
LAST-MODIFIED:20250719T150341Z
UID:10000073-1754751600-1754757000@www.apollosunrise.com
SUMMARY:Creative Community Small Project Circle
DESCRIPTION:Creative Community Small Project CircleGather. Create. Connect. \nLooking for a space to express your creativity while connecting with others in a relaxed and welcoming environment? \nJoin us for the Creative Community Small Project Circle—a cozy\, come-as-you-are gathering designed to nourish your creative spirit and foster authentic connection. Whether you’re sketching\, journaling\, collaging\, knitting\, or coloring\, this is your time to settle in\, make progress on your project\, and enjoy meaningful conversation with like-minded souls. \nThere’s no instruction or pressure—just space to create\, share ideas\, and be in the presence of supportive community energy. \nThis gathering is perfect for you if you’d like to: \n\n\nMake space in your life for creative self-expression \n\n\nWork on personal projects in a peaceful and inspiring setting \n\n\nShare and receive encouragement\, insights\, and inspiration \n\n\nConnect with others who value creativity\, mindfulness\, and community \n\n\nBring any small project you’d like to work on—journals\, coloring books\, fiber arts\, vision boards\, sketchbooks\, etc.✨ No paint\, please. ✨ \nWhether you’re working on something specific or just showing up for the vibes\, you’ll leave feeling more connected\, creatively charged\, and uplifted.
URL:https://www.apollosunrise.com/event/creative-community-small-project-circle-4/
LOCATION:Apollo Sunrise Center\, 84 Birch Meadow Rd.\, Merrimac\, MA\, United States
CATEGORIES:Free Classes or Groups
ATTACH;FMTTYPE=image/png:https://www.apollosunrise.com/wp-content/uploads/2025/05/9edf8d25-bc42-4d24-849e-f1e3317b3e5a.png
END:VEVENT
BEGIN:VEVENT
DTSTART;TZID=America/New_York:20250820T120000
DTEND;TZID=America/New_York:20250820T130000
DTSTAMP:20260419T160025
CREATED:20250731T154035Z
LAST-MODIFIED:20250731T154035Z
UID:10000104-1755691200-1755694800@www.apollosunrise.com
SUMMARY:Lunch with Leah: Let’s Chat!
DESCRIPTION:A Free Monthly Zoom Gathering for Curious Souls\, Future Students\, and Potential Collaborators \nHave questions about a class you’re considering? Wondering which healing session is right for you? Curious about hosting your own offering or private event at Apollo Sunrise Center? \nJoin us for Lunch with Leah—a free\, live Zoom session held monthly\, hosted by Leah M. Hill\, founder of Apollo Sunrise Center. This is your chance to ask anything—in a relaxed\, welcoming\, no-pressure environment over your lunch break. \nBring your curiosity\, your questions\, or simply your presence. We’ll talk about: \n\nUpcoming classes\, retreats\, and workshops\nHealing services like Reiki\, Intuitive Guidance\, and Hypnotherapy\nHow to choose the right experience for your personal path\nWhat it’s like to host your own class\, workshop\, or retreat with us\nOptions for private events\, such as gatherings\, celebrations\, or custom retreats\n\n  \n12:00–1:00 PM ET(Or drop in anytime during the session) \n\n  \n💬 Can’t Make That Time?\nIf the listed time doesn’t work for you\, simply reach out through our Contact page on the home page of the website and we’ll be happy to set up a free 15-minute private Zoom call at a more convenient time. \nWe want to make it easy for you to get the answers\, clarity\, and connection you’re looking for. Let’s chat!
URL:https://www.apollosunrise.com/event/lunch-with-leah-lets-chat/
LOCATION:Apollo Sunrise Center\, 84 Birch Meadow Rd.\, Merrimac\, MA\, United States
CATEGORIES:Free Classes or Groups
ATTACH;FMTTYPE=image/png:https://www.apollosunrise.com/wp-content/uploads/2025/07/ChatGPT-Image-Jul-29-2025-at-07_08_08-PM.png
END:VEVENT
END:VCALENDAR