BEGIN:VCALENDAR
VERSION:2.0
PRODID:-//Apollo Sunrise Center - ECPv6.13.0//NONSGML v1.0//EN
CALSCALE:GREGORIAN
METHOD:PUBLISH
X-ORIGINAL-URL:https://www.apollosunrise.com
X-WR-CALDESC:Events for Apollo Sunrise Center
REFRESH-INTERVAL;VALUE=DURATION:PT1H
X-Robots-Tag:noindex
X-PUBLISHED-TTL:PT1H
BEGIN:VTIMEZONE
TZID:America/New_York
BEGIN:DAYLIGHT
TZOFFSETFROM:-0500
TZOFFSETTO:-0400
TZNAME:EDT
DTSTART:20250309T070000
END:DAYLIGHT
BEGIN:STANDARD
TZOFFSETFROM:-0400
TZOFFSETTO:-0500
TZNAME:EST
DTSTART:20251102T060000
END:STANDARD
END:VTIMEZONE
BEGIN:VEVENT
DTSTART;TZID=America/New_York:20251101T100000
DTEND;TZID=America/New_York:20251101T170000
DTSTAMP:20260419T113626
CREATED:20250805T190701Z
LAST-MODIFIED:20250807T230426Z
UID:10000113-1761991200-1762016400@www.apollosunrise.com
SUMMARY:Voices of the Valley: Featuring Local Authors
DESCRIPTION:Join us for Voices of the Valley: Featuring Local Authors — a brand-new 2-day literary celebration happening Saturday\, November 1 and Sunday\, November 2\, 2025 at the beautiful Apollo Sunrise Center in Merrimac\, MA. \n  \nThis welcoming festival brings together local and regional authors from across New England\, offering attendees a weekend filled with engaging conversations\, inspiring stories\, and meaningful connections. It’s the perfect opportunity to meet the authors behind the books you love and shop for unique holiday gifts for the book lovers in your life. \nWhat to Expect: \n\nAuthor Panels: Hear authors discuss their books\, share their inspirations\, and read excerpts from their work.\nSpeaker Spotlights: Industry leaders share valuable insights into the writing process\, editing\, publishing\, and marketing.\nBook Signings & Meet-the-Author Time: Get your favorite books signed and chat directly with the authors.\nShopping in the Author Hall: Browse a variety of books\, plus unique literary-inspired items perfect for holiday giving.\n\n\nEvent Highlights: \n\nA warm\, creative atmosphere in a stunning retreat setting\nA diverse lineup of voices\, genres\, and expert perspectives\nOpportunities to support local authors and discover your next favorite read\nA relaxed\, festive environment ideal for early holiday shopping\n\n\nDates & Times:📅 Saturday\, November 1\, 2025 | 10:00 AM – 5:00 PM📅 Sunday\, November 2\, 2025 | 10:00 AM – 5:00 PM \n📍 Apollo Sunrise Center84 Birch Meadow Rd\, Merrimac\, MA 01860www.ApolloSunrise.com \nAdmission: Free and open to all! \nCome spend the weekend surrounded by the magic of books\, the beauty of New England’s fall season\, and the joy of community—while finding one-of-a-kind holiday treasures.
URL:https://www.apollosunrise.com/event/voices-of-the-valley-featuring-local-authors/
LOCATION:Apollo Sunrise Center\, 84 Birch Meadow Rd.\, Merrimac\, MA\, United States
CATEGORIES:Free Classes or Groups,Holiday Events,Special EVENTS,Workshops for All Learners,Writers' Workshops
END:VEVENT
BEGIN:VEVENT
DTSTART;TZID=America/New_York:20251102T100000
DTEND;TZID=America/New_York:20251102T170000
DTSTAMP:20260419T113626
CREATED:20250805T190842Z
LAST-MODIFIED:20250807T153713Z
UID:10000114-1762077600-1762102800@www.apollosunrise.com
SUMMARY:Voices of the Valley: Featuring Local Authors
DESCRIPTION:oin us for Voices of the Valley: Featuring Local Authors — a brand-new 2-day literary celebration happening Saturday\, November 1 and Sunday\, November 2\, 2025 at the beautiful Apollo Sunrise Center in Merrimac\, MA. \n  \nThis welcoming festival brings together local and regional authors from across New England\, offering attendees a weekend filled with engaging conversations\, inspiring stories\, and meaningful connections. It’s the perfect opportunity to meet the authors behind the books you love and shop for unique holiday gifts for the book lovers in your life. \nWhat to Expect: \n\nAuthor Panels: Hear authors discuss their books\, share their inspirations\, and read excerpts from their work.\nSpeaker Spotlights: Industry leaders share valuable insights into the writing process\, editing\, publishing\, and marketing.\nBook Signings & Meet-the-Author Time: Get your favorite books signed and chat directly with the authors.\nShopping in the Author Hall: Browse a variety of books\, plus unique literary-inspired items perfect for holiday giving.\n\n\nEvent Highlights: \n\nA warm\, creative atmosphere in a stunning retreat setting\nA diverse lineup of voices\, genres\, and expert perspectives\nOpportunities to support local authors and discover your next favorite read\nA relaxed\, festive environment ideal for early holiday shopping\n\n\nDates & Times:📅 Saturday\, November 1\, 2025 | 10:00 AM – 5:00 PM📅 Sunday\, November 2\, 2025 | 10:00 AM – 5:00 PM \n📍 Apollo Sunrise Center84 Birch Meadow Rd\, Merrimac\, MA 01860www.ApolloSunrise.com \nAdmission: Free and open to all! \nCome spend the weekend surrounded by the magic of books\, the beauty of New England’s fall season\, and the joy of community—while finding one-of-a-kind holiday treasures.
URL:https://www.apollosunrise.com/event/voices-of-the-valley-featuring-local-authors-2/
LOCATION:Apollo Sunrise Center\, 84 Birch Meadow Rd.\, Merrimac\, MA\, United States
CATEGORIES:Free Classes or Groups,Holiday Events,Special EVENTS,Workshops for All Learners,Writers' Workshops
ATTACH;FMTTYPE=image/jpeg:https://www.apollosunrise.com/wp-content/uploads/2025/08/bookfestival5.jpg
END:VEVENT
BEGIN:VEVENT
DTSTART;TZID=America/New_York:20251119T120000
DTEND;TZID=America/New_York:20251119T130000
DTSTAMP:20260419T113626
CREATED:20250731T154440Z
LAST-MODIFIED:20250731T154820Z
UID:10000107-1763553600-1763557200@www.apollosunrise.com
SUMMARY:Lunch with Leah: Let’s Chat!
DESCRIPTION:A Free Monthly Zoom Gathering for Curious Souls\, Future Students\, and Potential Collaborators \nHave questions about a class you’re considering? Wondering which healing session is right for you? Curious about hosting your own offering or private event at Apollo Sunrise Center? \nJoin us for Lunch with Leah—a free\, live Zoom session held monthly\, hosted by Leah M. Hill\, founder of Apollo Sunrise Center. This is your chance to ask anything—in a relaxed\, welcoming\, no-pressure environment over your lunch break. \nBring your curiosity\, your questions\, or simply your presence. We’ll talk about: \n\nUpcoming classes\, retreats\, and workshops\nHealing services like Reiki\, Intuitive Guidance\, and Hypnotherapy\nHow to choose the right experience for your personal path\nWhat it’s like to host your own class\, workshop\, or retreat with us\nOptions for private events\, such as gatherings\, celebrations\, or custom retreats\n\n  \n12:00–1:00 PM ET(Or drop in anytime during the session) \n\n  \n💬 Can’t Make That Time?\nIf the listed time doesn’t work for you\, simply reach out through our Contact page on the home page of the website and we’ll be happy to set up a free 15-minute private Zoom call at a more convenient time. \nWe want to make it easy for you to get the answers\, clarity\, and connection you’re looking for. Let’s chat!
URL:https://www.apollosunrise.com/event/lunch-with-leah-lets-chat-4/
LOCATION:Apollo Sunrise Center\, 84 Birch Meadow Rd.\, Merrimac\, MA\, United States
CATEGORIES:Free Classes or Groups
ATTACH;FMTTYPE=image/png:https://www.apollosunrise.com/wp-content/uploads/2025/07/ChatGPT-Image-Jul-29-2025-at-07_08_08-PM.png
END:VEVENT
END:VCALENDAR