BEGIN:VCALENDAR
VERSION:2.0
PRODID:-//Apollo Sunrise Center - ECPv6.13.0//NONSGML v1.0//EN
CALSCALE:GREGORIAN
METHOD:PUBLISH
X-WR-CALNAME:Apollo Sunrise Center
X-ORIGINAL-URL:https://www.apollosunrise.com
X-WR-CALDESC:Events for Apollo Sunrise Center
REFRESH-INTERVAL;VALUE=DURATION:PT1H
X-Robots-Tag:noindex
X-PUBLISHED-TTL:PT1H
BEGIN:VTIMEZONE
TZID:UTC
BEGIN:STANDARD
TZOFFSETFROM:+0000
TZOFFSETTO:+0000
TZNAME:UTC
DTSTART:20250101T000000
END:STANDARD
END:VTIMEZONE
BEGIN:VEVENT
DTSTART;TZID=UTC:20250607T110000
DTEND;TZID=UTC:20250607T120000
DTSTAMP:20260419T203117
CREATED:20250516T232237Z
LAST-MODIFIED:20250521T212349Z
UID:10000013-1749294000-1749297600@www.apollosunrise.com
SUMMARY:Introduction To Apollo Sunrise Center Info & Connection Session
DESCRIPTION:Explore the opportunities at Apollo Sunrise Center during our Introduction to Apollo Sunrise CenterInfo Connection Session tailored for wellness practitioners healers and facilitators eager to share their gifts. Attendees will discover our mission and vision enjoy a tour of our stunning baroque-style retreat center and connect with a community of like-minded individuals. Participants will also gain insights into our application process space rentals and the selective nature of our facilitation opportunities.Who Should AttendThis session is perfect for healers instructors facilitators and wellness practitioners who are interested in offering classes workshops retreats or private sessions at Apollo Sunrise Center.
URL:https://www.apollosunrise.com/event/introduction-to-apollo-sunrise-center-info-connection-session/
LOCATION:Apollo Sunrise Center\, 84 Birch Meadow Rd.\, Merrimac\, MA\, United States
CATEGORIES:Free Classes or Groups
ATTACH;FMTTYPE=image/png:https://www.apollosunrise.com/wp-content/uploads/2025/05/406e2f60-62ae-4780-b707-2f59502b5627.png
END:VEVENT
END:VCALENDAR