BEGIN:VCALENDAR
VERSION:2.0
PRODID:-//Apollo Sunrise Center - ECPv6.13.0//NONSGML v1.0//EN
CALSCALE:GREGORIAN
METHOD:PUBLISH
X-WR-CALNAME:Apollo Sunrise Center
X-ORIGINAL-URL:https://www.apollosunrise.com
X-WR-CALDESC:Events for Apollo Sunrise Center
REFRESH-INTERVAL;VALUE=DURATION:PT1H
X-Robots-Tag:noindex
X-PUBLISHED-TTL:PT1H
BEGIN:VTIMEZONE
TZID:UTC
BEGIN:STANDARD
TZOFFSETFROM:+0000
TZOFFSETTO:+0000
TZNAME:UTC
DTSTART:20250101T000000
END:STANDARD
END:VTIMEZONE
BEGIN:VEVENT
DTSTART;TZID=UTC:20250614T130000
DTEND;TZID=UTC:20250614T143000
DTSTAMP:20260419T203113
CREATED:20250516T234447Z
LAST-MODIFIED:20250521T212651Z
UID:10000019-1749906000-1749911400@www.apollosunrise.com
SUMMARY:Spiritual Exploration Meetup
DESCRIPTION:This informal gathering invites like-minded people to share their beliefs experiences and questions in a supportive environment fostering personal growth and collective wisdom. Each meeting centers around a unique theme encouraging diverse perspectives and enriching discussions that broaden your spiritual awareness. This is a space where you can share your beliefs and experiences ask questions and learn from the collective wisdom of the group
URL:https://www.apollosunrise.com/event/spiritual-exploration-meetup-2/
LOCATION:Apollo Sunrise Center\, 84 Birch Meadow Rd.\, Merrimac\, MA\, United States
CATEGORIES:Free Classes or Groups
ATTACH;FMTTYPE=image/png:https://www.apollosunrise.com/wp-content/uploads/2025/05/c484ffbe-3dac-4b51-8f74-e0d2ce57354a.png
END:VEVENT
END:VCALENDAR