BEGIN:VCALENDAR
VERSION:2.0
PRODID:-//Apollo Sunrise Center - ECPv6.13.0//NONSGML v1.0//EN
CALSCALE:GREGORIAN
METHOD:PUBLISH
X-WR-CALNAME:Apollo Sunrise Center
X-ORIGINAL-URL:https://www.apollosunrise.com
X-WR-CALDESC:Events for Apollo Sunrise Center
REFRESH-INTERVAL;VALUE=DURATION:PT1H
X-Robots-Tag:noindex
X-PUBLISHED-TTL:PT1H
BEGIN:VTIMEZONE
TZID:UTC
BEGIN:STANDARD
TZOFFSETFROM:+0000
TZOFFSETTO:+0000
TZNAME:UTC
DTSTART:20250101T000000
END:STANDARD
END:VTIMEZONE
BEGIN:VEVENT
DTSTART;TZID=UTC:20250713T130000
DTEND;TZID=UTC:20250713T143000
DTSTAMP:20260419T190356
CREATED:20250521T015650Z
LAST-MODIFIED:20250701T214757Z
UID:10000041-1752411600-1752417000@www.apollosunrise.com
SUMMARY:Creative Community Small Project Circle
DESCRIPTION:Creative Community Small Project CircleGather. Create. Connect. \nLooking for a space to express your creativity while connecting with others in a relaxed and welcoming environment? \nJoin us for the Creative Community Small Project Circle—a cozy\, come-as-you-are gathering designed to nourish your creative spirit and foster authentic connection. Whether you’re sketching\, journaling\, collaging\, knitting\, or coloring\, this is your time to settle in\, make progress on your project\, and enjoy meaningful conversation with like-minded souls. \nThere’s no instruction or pressure—just space to create\, share ideas\, and be in the presence of supportive community energy. \nThis gathering is perfect for you if you’d like to: \n\n\nMake space in your life for creative self-expression \n\n\nWork on personal projects in a peaceful and inspiring setting \n\n\nShare and receive encouragement\, insights\, and inspiration \n\n\nConnect with others who value creativity\, mindfulness\, and community \n\n\nBring any small project you’d like to work on—journals\, coloring books\, fiber arts\, vision boards\, sketchbooks\, etc.✨ No paint\, please. ✨ \nWhether you’re working on something specific or just showing up for the vibes\, you’ll leave feeling more connected\, creatively charged\, and uplifted.
URL:https://www.apollosunrise.com/event/creative-community-small-project-circle-3/
LOCATION:Apollo Sunrise Center\, 84 Birch Meadow Rd.\, Merrimac\, MA\, United States
CATEGORIES:Free Classes or Groups
ATTACH;FMTTYPE=image/png:https://www.apollosunrise.com/wp-content/uploads/2025/05/9edf8d25-bc42-4d24-849e-f1e3317b3e5a.png
END:VEVENT
END:VCALENDAR