BEGIN:VCALENDAR
VERSION:2.0
PRODID:-//Apollo Sunrise Center - ECPv6.13.0//NONSGML v1.0//EN
CALSCALE:GREGORIAN
METHOD:PUBLISH
X-WR-CALNAME:Apollo Sunrise Center
X-ORIGINAL-URL:https://www.apollosunrise.com
X-WR-CALDESC:Events for Apollo Sunrise Center
REFRESH-INTERVAL;VALUE=DURATION:PT1H
X-Robots-Tag:noindex
X-PUBLISHED-TTL:PT1H
BEGIN:VTIMEZONE
TZID:UTC
BEGIN:STANDARD
TZOFFSETFROM:+0000
TZOFFSETTO:+0000
TZNAME:UTC
DTSTART:20250101T000000
END:STANDARD
END:VTIMEZONE
BEGIN:VEVENT
DTSTART;TZID=UTC:20250809T110000
DTEND;TZID=UTC:20250809T123000
DTSTAMP:20260419T173626
CREATED:20250711T001742Z
LAST-MODIFIED:20250711T001742Z
UID:10000071-1754737200-1754742600@www.apollosunrise.com
SUMMARY:Energy Protection Techniques For Empaths
DESCRIPTION:Energy Protection Techniques for EmpathsGround. Shield. Thrive. \nAre you someone who feels everything deeply—absorbing the emotions\, energies\, and even stress of those around you? This immersive workshop is designed specifically for empaths\, intuitives\, and highly sensitive individuals who are ready to strengthen their energetic boundaries and reclaim their personal power. \nIn today’s fast-paced and often overwhelming world\, protecting your energy isn’t a luxury—it’s a necessity. This supportive and practical session will introduce you to a variety of powerful\, easy-to-use tools and techniques to help you stay grounded\, balanced\, and emotionally clear. \nIn this workshop\, you will learn how to: \n\n\nEstablish strong energetic boundaries that support your well-being \n\n\nManage emotional overload and avoid taking on others’ energy \n\n\nClear your energy field and release what isn’t yours \n\n\nPrevent burnout and energetic fatigue before it begins \n\n\nUse practical tools such as breathwork\, visualization\, grounding exercises\, shielding techniques\, and more \n\n\nYou’ll walk away with a personalized toolkit of techniques you can apply immediately—whether you’re at home\, at work\, or in a crowded space. \nThis session is perfect for: \n\n\nEmpaths and sensitive souls who want to feel empowered\, not drained \n\n\nHealers\, practitioners\, caregivers\, and therapists who work closely with others \n\n\nAnyone seeking to create a stronger sense of inner calm and energetic resilience \n\n\nThis is your time to feel lighter\, stronger\, and more in control of your energy.
URL:https://www.apollosunrise.com/event/energy-protection-techniques-for-empaths-3/
LOCATION:Apollo Sunrise Center\, 84 Birch Meadow Rd.\, Merrimac\, MA\, United States
CATEGORIES:Intuition and Mediumship Development
ATTACH;FMTTYPE=image/avif:https://www.apollosunrise.com/wp-content/uploads/2025/05/600_526289737.webp.avif
END:VEVENT
END:VCALENDAR