BEGIN:VCALENDAR
VERSION:2.0
PRODID:-//Apollo Sunrise Center - ECPv6.13.0//NONSGML v1.0//EN
CALSCALE:GREGORIAN
METHOD:PUBLISH
X-WR-CALNAME:Apollo Sunrise Center
X-ORIGINAL-URL:https://www.apollosunrise.com
X-WR-CALDESC:Events for Apollo Sunrise Center
REFRESH-INTERVAL;VALUE=DURATION:PT1H
X-Robots-Tag:noindex
X-PUBLISHED-TTL:PT1H
BEGIN:VTIMEZONE
TZID:America/New_York
BEGIN:DAYLIGHT
TZOFFSETFROM:-0500
TZOFFSETTO:-0400
TZNAME:EDT
DTSTART:20260308T070000
END:DAYLIGHT
BEGIN:STANDARD
TZOFFSETFROM:-0400
TZOFFSETTO:-0500
TZNAME:EST
DTSTART:20261101T060000
END:STANDARD
END:VTIMEZONE
BEGIN:VEVENT
DTSTART;TZID=America/New_York:20260503T150000
DTEND;TZID=America/New_York:20260503T163000
DTSTAMP:20260420T044416
CREATED:20260305T190050Z
LAST-MODIFIED:20260403T190735Z
UID:10000875-1777820400-1777825800@www.apollosunrise.com
SUMMARY:You Are A soul Song-Mother/ Divine Feminine Event
DESCRIPTION:Here is a wonderful way to celebrate the week before Mother’s Day! Donnadia Lowre presents an interactive show of empowerment\, enlightenment and exploration of the powerful energy of the Mother/Divine Feminine. Donnadia has been an Uplifter\, teacher and inspirational speaker for over 20 years. Previously\, she was a professional actress and singer. Donnadia received her M.Div. from Andover Newton Theological School in 2008 and is a practitioner of the spiritually inclusive New Thought /Ageless Wisdom teachings. She has also been a spiritual teacher\, chaplain\, pastor and hospice spiritual counselor.  \nDonnadia will speak of the Divine Feminine/Mother energy of Light and Love in all of us. She will sing her beautiful\, uplifting songs and we will sing together. There will also be dancing where you will be free to “let go” and feel your light within. \nThis time together will be a celebration and a healing. You will learn that you are a unique reflection of the Divine and your Light is needed to shine in our world. You will learn that you are One of a Kind Wonderful!
URL:https://www.apollosunrise.com/event/you-are-a-soul-song-mother-divine-feminine-event/
LOCATION:Apollo Sunrise Center\, 84 Birch Meadow Rd.\, Merrimac\, MA\, United States
CATEGORIES:Musical Event
ATTACH;FMTTYPE=image/png:https://www.apollosunrise.com/wp-content/uploads/2026/03/May3_Donnadia.png
END:VEVENT
END:VCALENDAR