BEGIN:VCALENDAR
VERSION:2.0
PRODID:-//Apollo Sunrise Center - ECPv6.13.0//NONSGML v1.0//EN
CALSCALE:GREGORIAN
METHOD:PUBLISH
X-ORIGINAL-URL:https://www.apollosunrise.com
X-WR-CALDESC:Events for Apollo Sunrise Center
REFRESH-INTERVAL;VALUE=DURATION:PT1H
X-Robots-Tag:noindex
X-PUBLISHED-TTL:PT1H
BEGIN:VTIMEZONE
TZID:America/New_York
BEGIN:DAYLIGHT
TZOFFSETFROM:-0500
TZOFFSETTO:-0400
TZNAME:EDT
DTSTART:20260308T070000
END:DAYLIGHT
BEGIN:STANDARD
TZOFFSETFROM:-0400
TZOFFSETTO:-0500
TZNAME:EST
DTSTART:20261101T060000
END:STANDARD
END:VTIMEZONE
BEGIN:VEVENT
DTSTART;TZID=America/New_York:20260326T190000
DTEND;TZID=America/New_York:20260326T203000
DTSTAMP:20260419T085626
CREATED:20260220T234520Z
LAST-MODIFIED:20260306T222427Z
UID:10000694-1774551600-1774557000@www.apollosunrise.com
SUMMARY:Sacred Geometry & the Seven Shapes of Alignment
DESCRIPTION:A hands-on sacred geometry workshop with meditation & energy tools—no math needed. Feel aligned\, clear\, and empowered right away.\n\n\n\nThis workshop is split into (2) one and half hour sessions. The price is for both sessions \nUnlock the energetic power of sacred geometry to feel more grounded\, clear\, and in flow.\nThis unique\, hands-on workshop introduces you to seven powerful sacred shapes—like the triangle\, circle\, and Platonic solids—and shows you how to use them as tools for personal alignment and energy healing. Through a blend of guided meditations\, interactive teachings\, and simple energetic practices\, you’ll explore how these universal forms can help shift your vibration\, focus your intentions\, and restore balance in your everyday life. \nOpen to all levels—no math\, artistic skills\, or prior experience needed. Just bring your curiosity and a willingness to explore. \nWhat You’ll Learn & Experience\n\nA beginner-friendly overview of sacred geometry and how it’s used in spiritual practice\nThe energetic meaning of each shape and how it relates to healing and transformation\nGuided meditations with each of the 7 shapes to explore their effect on your mind\, body\, and energy field\nIntuitive exercises to help you discover which shapes you resonate with most right now\n\n\nWhat You’ll Walk Away With\n\nWays to raise your energetic vibration using specific sacred shapes\nTechniques to clear your energy field and release stagnant emotions\nSimple grounding practices to feel more centered and focused\nMethods to end procrastination by activating energy through geometric intention\nTools to calm anxiety\, enhance clarity\, and reset your mental space\nA method to tune in to the shape your energy needs most in the moment\nEasy exercises to reconnect with your inner guidance anytime\, anywhere\n\nNo special skills needed—leave with new insight\, energy\, and tools for real-life transformation.\nThis is your invitation to explore the energetic patterns that support your growth—from the inside out.
URL:https://www.apollosunrise.com/event/sacred-geometry-the-seven-shapes-of-alignment-3/2026-03-26/
LOCATION:Virtual Event\, Online Event\, Online
CATEGORIES:Sacred Geometry,Workshops for All Learners
ATTACH;FMTTYPE=image/jpeg:https://www.apollosunrise.com/wp-content/uploads/2026/01/https-cdn.evbuc_.com-images-1094679773-2488759528191-1-original.20250813-124223-2.jpeg
END:VEVENT
END:VCALENDAR