BEGIN:VCALENDAR
VERSION:2.0
PRODID:-//Apollo Sunrise Center - ECPv6.13.0//NONSGML v1.0//EN
CALSCALE:GREGORIAN
METHOD:PUBLISH
X-WR-CALNAME:Apollo Sunrise Center
X-ORIGINAL-URL:https://www.apollosunrise.com
X-WR-CALDESC:Events for Apollo Sunrise Center
REFRESH-INTERVAL;VALUE=DURATION:PT1H
X-Robots-Tag:noindex
X-PUBLISHED-TTL:PT1H
BEGIN:VTIMEZONE
TZID:UTC
BEGIN:STANDARD
TZOFFSETFROM:+0000
TZOFFSETTO:+0000
TZNAME:UTC
DTSTART:20250101T000000
END:STANDARD
END:VTIMEZONE
BEGIN:VEVENT
DTSTART;TZID=UTC:20250608T110000
DTEND;TZID=UTC:20250608T120000
DTSTAMP:20260419T175939
CREATED:20250516T232840Z
LAST-MODIFIED:20250518T184536Z
UID:10000015-1749380400-1749384000@www.apollosunrise.com
SUMMARY:Restorative Healing Sound Bath
DESCRIPTION:Experience a profound journey of relaxation and rejuvenation in the Restorative Healing Sound Bath led by Laura Degelmann of Soul-full Notes Sound Healing. This session begins with a calming meditation to center your thoughts followed by an immersive sound experience featuring a variety of healing instruments such as crystal quartz singing bowls and Koshi chimes designed to restore your bodys natural frequencies and promote emotional and spiritual well-being. Participants are encouraged to bring a yoga mat and any comfort items while those with specific medical conditions should consult a physician before attending.
URL:https://www.apollosunrise.com/event/restorative-healing-sound-bath/
LOCATION:Apollo Sunrise Center\, 84 Birch Meadow Rd.\, Merrimac\, MA\, United States
CATEGORIES:Sound Healing
ATTACH;FMTTYPE=image/png:https://www.apollosunrise.com/wp-content/uploads/2025/05/084494be-e9ce-45d1-8b74-810027c64e47.png
END:VEVENT
END:VCALENDAR