BEGIN:VCALENDAR
VERSION:2.0
PRODID:-//Apollo Sunrise Center - ECPv6.13.0//NONSGML v1.0//EN
CALSCALE:GREGORIAN
METHOD:PUBLISH
X-WR-CALNAME:Apollo Sunrise Center
X-ORIGINAL-URL:https://www.apollosunrise.com
X-WR-CALDESC:Events for Apollo Sunrise Center
REFRESH-INTERVAL;VALUE=DURATION:PT1H
X-Robots-Tag:noindex
X-PUBLISHED-TTL:PT1H
BEGIN:VTIMEZONE
TZID:UTC
BEGIN:STANDARD
TZOFFSETFROM:+0000
TZOFFSETTO:+0000
TZNAME:UTC
DTSTART:20250101T000000
END:STANDARD
END:VTIMEZONE
BEGIN:VEVENT
DTSTART;TZID=UTC:20250803T130000
DTEND;TZID=UTC:20250803T143000
DTSTAMP:20260419T180216
CREATED:20250711T001157Z
LAST-MODIFIED:20250711T001157Z
UID:10000070-1754226000-1754231400@www.apollosunrise.com
SUMMARY:Mantra Chanting Circle: A Gathering of Sound and Spirit
DESCRIPTION:Sacred Sound. Open Heart. Shared Stillness. \nStep into a peaceful and soul-nourishing space where sound becomes spirit\, and voice becomes vibration. In this heart-opening gathering\, we’ll explore the ancient and powerful practice of mantra chanting—sacred sounds that calm the mind\, elevate consciousness\, and awaken the heart. \nTogether\, in community\, we’ll chant traditional mantras from various spiritual lineages\, cultivating a field of healing energy\, presence\, and deep inner peace. Whether you are new to mantra or already have a personal chanting practice\, you are warmly welcome in this circle. \nThis is not a performance or a singing class—it’s a vibrational meditation and a journey inward. \nWhat You’ll Experience:\n\n\nA welcoming and meditative space to explore sound as a spiritual practice \n\n\nChanting of traditional Sanskrit and Tibetan mantras for peace\, clarity\, compassion\, and awakening \n\n\nThe energetic power of group resonance and vibrational healing \n\n\nMoments of silence and stillness to absorb and integrate the experience \n\n\nA deeper connection to your voice\, your breath\, and your spirit \n\n\nSome of the mantras we may explore include:\n\n\nOm Mani Padme Hum – A Tibetan mantra invoking compassion and heart awakening \n\n\nLokah Samastah Sukhino Bhavantu – A Sanskrit prayer for peace and happiness for all beings \n\n\nSo Hum – A breath-aligned mantra meaning “I am that” (oneness with all) \n\n\nOm Shanti Shanti Shanti – A chant for peace in body\, mind\, and spirit \n\n\nGayatri Mantra – An ancient Vedic invocation for divine wisdom and inner illumination \n\n\n\nNo singing experience is required.Just bring your voice\, your presence\, and an open heart. \n\n✨ Let the repetition of sacred sound guide you home to your center.✨ Let your voice become a tool for healing and alignment.✨ Let mantra open the door to stillness\, devotion\, and connection.
URL:https://www.apollosunrise.com/event/mantra-chanting-circle-a-gathering-of-sound-and-spirit/
LOCATION:Apollo Sunrise Center\, 84 Birch Meadow Rd.\, Merrimac\, MA\, United States
CATEGORIES:Sound Healing
ATTACH;FMTTYPE=image/png:https://www.apollosunrise.com/wp-content/uploads/2025/07/39aa337c-ff0c-4373-8a31-bea75aa1ddf4.png
END:VEVENT
END:VCALENDAR