BEGIN:VCALENDAR
VERSION:2.0
PRODID:-//Apollo Sunrise Center - ECPv6.13.0//NONSGML v1.0//EN
CALSCALE:GREGORIAN
METHOD:PUBLISH
X-ORIGINAL-URL:https://www.apollosunrise.com
X-WR-CALDESC:Events for Apollo Sunrise Center
REFRESH-INTERVAL;VALUE=DURATION:PT1H
X-Robots-Tag:noindex
X-PUBLISHED-TTL:PT1H
BEGIN:VTIMEZONE
TZID:America/New_York
BEGIN:DAYLIGHT
TZOFFSETFROM:-0500
TZOFFSETTO:-0400
TZNAME:EDT
DTSTART:20260308T070000
END:DAYLIGHT
BEGIN:STANDARD
TZOFFSETFROM:-0400
TZOFFSETTO:-0500
TZNAME:EST
DTSTART:20261101T060000
END:STANDARD
END:VTIMEZONE
BEGIN:VEVENT
DTSTART;TZID=America/New_York:20260509T180000
DTEND;TZID=America/New_York:20260509T200000
DTSTAMP:20260423T054057
CREATED:20260211T212341Z
LAST-MODIFIED:20260211T212341Z
UID:10000679-1778349600-1778356800@www.apollosunrise.com
SUMMARY:Sacred Sound Experience with Nada Brahma Kirtan Band
DESCRIPTION:Try Kirtan! It’s uplifting and healing music. You can sing along or just enjoy the experience!\n\n\n\nKirtan is transcendental spiritual music and a meditation practice also described as Bhakti Yoga or Nada Yoga. Its origins come from Eastern Indian and Budhist culture.\nKirtan is a call and response chanting from the vocal leader to the audience\, who then recites or echos back the same lyrics. By chanting in this way\, the sounds and voices raise a very high conscious vibration that reverberates within and outside of you\, opening up energy channels.\nNada Brahma Kirtan is currently a three member band founded by Kāmpa Vashi Deva and Lisa Kawski in 2018. The band originated on the North Shore and from the west of Boston. They bring their instruments and voices together to share with the community their devotion\, invoking the healing light of the Universe. Tapping into the experience opens your heart and mind\, helping to bring peace to the planet and beyond.\nBand Members:\nKāmpa Vashi Deva – Lead Vocal\, Harmonium\, Mridangam\, Slaptop Cajon and Kertals\nLisa Kawski – Lead Vocal\, Harmonium\, Indiginous Drum and Kertals\nSteve Sherman – Tablas\, Lead Vocal\, Chimes and Rhythms \nThis practice calms and quiets the mind. You don’t need to have any previous experience to attend a Kirtan. All spiritual faiths are welcome.\n\nTICKETS: $30 Online/$35 at the door\n 
URL:https://www.apollosunrise.com/event/sacred-sound-experience-with-nada-brahma-kirtan-band/
LOCATION:Apollo Sunrise Center\, 84 Birch Meadow Rd.\, Merrimac\, MA\, United States
CATEGORIES:Sound Healing,Special EVENTS,Workshops for All Learners
ATTACH;FMTTYPE=image/jpeg:https://www.apollosunrise.com/wp-content/uploads/2026/02/Poster-Sacred-Cosmic-Kirtan-Experience-US-Letter.jpg
END:VEVENT
BEGIN:VEVENT
DTSTART;TZID=America/New_York:20260614T110000
DTEND;TZID=America/New_York:20260614T120000
DTSTAMP:20260423T054057
CREATED:20260211T224223Z
LAST-MODIFIED:20260211T224223Z
UID:10000683-1781434800-1781438400@www.apollosunrise.com
SUMMARY:Restorative Healing Sound Bath
DESCRIPTION:Experience a transformative Healing Sound Bath with Laura Degelmann.\n\n\n\nRestorative Healing Sound Bath \nRelax. Release. Realign. \nAllow yourself to fully unwind in this deeply immersive Restorative Healing Sound Bathwith Laura Degelmann\, Certified Sound Healer and founder of Soul-full Notes Sound Healing. This soul-soothing session invites you to experience the powerful effects of sound and vibration as a pathway to emotional balance\, energetic alignment\, and deep inner peace. \nWe begin with a gentle\, guided meditation to quiet the mind and ground the body. From there\, you’ll be enveloped in a tapestry of healing tones created by crystal quartz singing bowls\, Koshi chimes\, and other vibrational instruments—all tuned to harmonize your body’s natural frequencies and promote holistic well-being. \nIn this sound bath experience\, you will: \n\nGently release tension\, stress\, and energetic blockages\nRebalance your nervous system and deepen your sense of calm\nOpen space for emotional healing\, clarity\, and inner peace\nEnhance your body’s natural ability to restore itself on every level\n\nThis session is suitable for all levels of experience. Please bring: a yoga mat\, blanket\, pillow\, or any items to help you feel cozy and supported as you relax into the soundscape. \n** Individuals who have pacemakers\, implanted pumps/devices\, epilepsy\, and women who are in the first 12 weeks of pregnancy are advised not to participate in sound baths. \nStep into this nurturing sanctuary of sound and allow your body\, mind\, and spirit to return to their natural state of harmony.
URL:https://www.apollosunrise.com/event/restorative-healing-sound-bath-8/
LOCATION:Apollo Sunrise Center\, 84 Birch Meadow Rd.\, Merrimac\, MA\, United States
CATEGORIES:Sound Healing,Workshops for All Learners
ATTACH;FMTTYPE=image/png:https://www.apollosunrise.com/wp-content/uploads/2026/02/Laura-Degelman.png
END:VEVENT
END:VCALENDAR