BEGIN:VCALENDAR
VERSION:2.0
PRODID:-//Apollo Sunrise Center - ECPv6.13.0//NONSGML v1.0//EN
CALSCALE:GREGORIAN
METHOD:PUBLISH
X-ORIGINAL-URL:https://www.apollosunrise.com
X-WR-CALDESC:Events for Apollo Sunrise Center
REFRESH-INTERVAL;VALUE=DURATION:PT1H
X-Robots-Tag:noindex
X-PUBLISHED-TTL:PT1H
BEGIN:VTIMEZONE
TZID:UTC
BEGIN:STANDARD
TZOFFSETFROM:+0000
TZOFFSETTO:+0000
TZNAME:UTC
DTSTART:20250101T000000
END:STANDARD
END:VTIMEZONE
BEGIN:VEVENT
DTSTART;TZID=UTC:20250827T180000
DTEND;TZID=UTC:20250827T193000
DTSTAMP:20260419T164942
CREATED:20250711T015917Z
LAST-MODIFIED:20250711T015917Z
UID:10000079-1756317600-1756323000@www.apollosunrise.com
SUMMARY:The Kybalion: Ancient Wisdom for Modern Living - Class 3 of 3
DESCRIPTION:The Kybalion: Ancient Wisdom for Modern Living\nThis powerful series explores the Seven Hermetic Principles found in The Kybalion\, a timeless text that reveals the unseen laws that govern reality. These teachings are not just theoretical—they offer practical tools to help you live with greater clarity\, alignment\, and personal power. Each class will unpack key principles\, provide real-world applications\, and offer time for reflection\, discussion\, and integration. \n  \nClass 3: Creating Wholeness from Within\nPrinciples Covered: Gender + Integration of All Seven Laws \nDiscover how the Principle of Gender is about balance\, not identity—how masculine (active) and feminine (receptive) energies are both necessary to manifest anything. We’ll also weave all seven principles together into a full picture of spiritual empowerment. \nYou’ll Learn: \n\nHow to harness both action and intuition in your decision-making\nHow to work with the laws as a living practice\nHow to live in alignment with your higher purpose\n\nPractical Outcomes: \nDevelop inner harmony\, trust your inner guidance\, and create a personalized framework to use these principles in relationships\, work\, healing\, and personal growth. \n  \n\nYou’re welcome to attend any class individually or join us for the full three-part series for a deeper\, integrated experience.
URL:https://www.apollosunrise.com/event/the-kybalion-ancient-wisdom-for-modern-living-class-3-of-3/
LOCATION:Apollo Sunrise Center\, 84 Birch Meadow Rd.\, Merrimac\, MA\, United States
CATEGORIES:Spiritual Advancement Academy
ATTACH;FMTTYPE=image/png:https://www.apollosunrise.com/wp-content/uploads/2025/07/dde99d5a-06d2-4c26-86d8-4eff9ac0002e.png
END:VEVENT
END:VCALENDAR