BEGIN:VCALENDAR
VERSION:2.0
PRODID:-//Apollo Sunrise Center - ECPv6.13.0//NONSGML v1.0//EN
CALSCALE:GREGORIAN
METHOD:PUBLISH
X-ORIGINAL-URL:https://www.apollosunrise.com
X-WR-CALDESC:Events for Apollo Sunrise Center
REFRESH-INTERVAL;VALUE=DURATION:PT1H
X-Robots-Tag:noindex
X-PUBLISHED-TTL:PT1H
BEGIN:VTIMEZONE
TZID:America/New_York
BEGIN:DAYLIGHT
TZOFFSETFROM:-0500
TZOFFSETTO:-0400
TZNAME:EDT
DTSTART:20260308T070000
END:DAYLIGHT
BEGIN:STANDARD
TZOFFSETFROM:-0400
TZOFFSETTO:-0500
TZNAME:EST
DTSTART:20261101T060000
END:STANDARD
END:VTIMEZONE
BEGIN:VEVENT
DTSTART;TZID=America/New_York:20260312T170000
DTEND;TZID=America/New_York:20260312T183000
DTSTAMP:20260419T104348
CREATED:20260223T175413Z
LAST-MODIFIED:20260223T175930Z
UID:10000748-1773334800-1773340200@www.apollosunrise.com
SUMMARY:Energy Protection Techniques for Empaths
DESCRIPTION:An immersive workshop tailored for sensitive individuals seeking to enhance their capacity to protect their energy.\n\n\n\nAn immersive\, skills-based workshop for sensitive individuals who want to protect their energy\, set clear personal boundaries\, and prevent emotional overload. Learn practical methods you can use immediately—at work\, in relationships\, and in everyday life—to stay grounded\, centered\, and resilient. \nWhat you’ll learn / experience\n\nA simple framework for recognizing energetic overwhelm\nGrounding and centering techniques you can do in minutes\nClear\, compassionate boundary-setting scripts and strategies\nHow to stop absorbing others’ emotions (without shutting down)\nQuick resets for after difficult conversations or crowded spaces\nA daily micro-practice to maintain your energetic baseline\n\nYou’ll walk away with\n\nA personal Energy Protection Plan tailored to your needs\n3 go-to techniques for rapid reset (anytime\, anywhere)\nLanguage for loving\, firm boundaries that stick\nMore calm\, clarity\, and confidence in sensitive settings\n\nWho it’s for\nEmpaths\, highly sensitive people (HSPs)\, caretakers\, helping professionals\, and anyone who feels “drained” by environments or interactions.
URL:https://www.apollosunrise.com/event/energy-protection-techniques-for-empaths-5/
LOCATION:Virtual Event\, Online Event\, Online
CATEGORIES:Spiritual Advancement Academy,Workshops for All Learners
ATTACH;FMTTYPE=image/png:https://www.apollosunrise.com/wp-content/uploads/2025/12/Screenshot-2025-12-31-at-2.28.01-PM.png
END:VEVENT
BEGIN:VEVENT
DTSTART;TZID=America/New_York:20260312T190000
DTEND;TZID=America/New_York:20260312T203000
DTSTAMP:20260419T104348
CREATED:20260223T180017Z
LAST-MODIFIED:20260223T180017Z
UID:10000749-1773342000-1773347400@www.apollosunrise.com
SUMMARY:Activating the Light Body: Awaken Your Crystalline Blueprint
DESCRIPTION:Awaken your Light Body & crystalline blueprint to accelerate healing\, expand intuition\, and embody your soul’s highest potential.\n\n\n\nActivating the Light Body: Awaken Your Crystalline BlueprintLed by Leah M. Hill \nStep into your next level of healing and spiritual evolution. In this powerful experiential workshop\, you will awaken and activate your Light Body—the luminous\, multidimensional energy field that holds your soul’s highest potential. Often referred to as the crystalline body\, this energetic system is the key to embodying higher consciousness\, intuitive clarity\, and accelerated healing. \nThrough guided meditation\, sacred geometry\, vibrational healing\, and intuitive activation\, you will: \n\nReconnect with your soul’s original energetic blueprint\nClear distortions\, imprints\, and blockages in your auric field\nLearn to stabilize and ground higher frequencies in your physical body\nActivate light codes for spiritual growth\, intuitive expansion\, and inner alignment\nStrengthen your energetic boundaries and deepen your connection to Source\n\nYou’ll walk away with: \n\nA clearer\, more vibrant energy field\nTechniques to maintain and strengthen your Light Body\nEnhanced intuition and spiritual alignment\nTools to embody and sustain higher vibrational states in everyday life\n\nThis offering is best suited for intermediate to advanced energy workers\, intuitive practitioners\, and healers ready to deepen their practice and anchor higher frequencies into their daily lives.
URL:https://www.apollosunrise.com/event/activating-the-light-body-awaken-your-crystalline-blueprint-5/
LOCATION:Virtual Event\, Online Event\, Online
CATEGORIES:Spiritual Advancement Academy,Workshops for All Learners
ATTACH;FMTTYPE=image/png:https://www.apollosunrise.com/wp-content/uploads/2026/01/Activating-your-light-body-workshop.png
END:VEVENT
END:VCALENDAR