BEGIN:VCALENDAR
VERSION:2.0
PRODID:-//Apollo Sunrise Center - ECPv6.13.0//NONSGML v1.0//EN
CALSCALE:GREGORIAN
METHOD:PUBLISH
X-WR-CALNAME:Apollo Sunrise Center
X-ORIGINAL-URL:https://www.apollosunrise.com
X-WR-CALDESC:Events for Apollo Sunrise Center
REFRESH-INTERVAL;VALUE=DURATION:PT1H
X-Robots-Tag:noindex
X-PUBLISHED-TTL:PT1H
BEGIN:VTIMEZONE
TZID:UTC
BEGIN:STANDARD
TZOFFSETFROM:+0000
TZOFFSETTO:+0000
TZNAME:UTC
DTSTART:20250101T000000
END:STANDARD
END:VTIMEZONE
BEGIN:VEVENT
DTSTART;TZID=UTC:20250706T110000
DTEND;TZID=UTC:20250706T123000
DTSTAMP:20260419T113214
CREATED:20250521T015428Z
LAST-MODIFIED:20250701T213902Z
UID:10000039-1751799600-1751805000@www.apollosunrise.com
SUMMARY:Mind-Mapping for Creative Inspiration and Project Planning
DESCRIPTION:Mind-Mapping for Creative InspirationUnlock Your Creative Potential & Bring Your Ideas to Life \nStep into a dynamic and empowering workshop designed to awaken your imagination\, clarify your vision\, and transform scattered thoughts into focused\, actionable plans. Mind-Mapping for Creative Inspiration offers more than just a planning tool—it’s a creative breakthrough process that helps you unlock ideas you didn’t even know you had. \nIn this hands-on session\, you’ll learn how to use the mind-mapping technique to organize your thoughts visually\, tap into intuitive creativity\, and connect seemingly unrelated ideas into bold\, innovative solutions. Whether you’re working on a personal project\, building a business\, writing a book\, or just trying to get unstuck\, this class will help you move forward with clarity and confidence. \nYou will walk away with: \n\n\nA personalized mind-map that brings your current idea or project to life \n\n\nPractical tools to break through mental blocks and ignite fresh inspiration \n\n\nClear strategies to organize complex ideas into simple\, manageable steps \n\n\nA powerful method for planning\, problem-solving\, and decision-making \n\n\nRenewed creative energy and motivation to take action \n\n\nThis workshop is ideal for writers\, entrepreneurs\, artists\, healers\, educators\, and anyone seeking to elevate their creative process and finally bring their ideas into form. \nNo experience necessary. Just bring a notebook\, your curiosity\, and an open mind.
URL:https://www.apollosunrise.com/event/mind-mapping-for-creative-inspiration-and-project-planning-2/
LOCATION:Apollo Sunrise Center\, 84 Birch Meadow Rd.\, Merrimac\, MA\, United States
CATEGORIES:Workshops for All Learners
ATTACH;FMTTYPE=image/png:https://www.apollosunrise.com/wp-content/uploads/2025/05/faf31e24-74e5-4960-9d42-8a5df8da234c.png
END:VEVENT
BEGIN:VEVENT
DTSTART;TZID=UTC:20250712T110000
DTEND;TZID=UTC:20250712T120000
DTSTAMP:20260419T113214
CREATED:20250517T011002Z
LAST-MODIFIED:20250701T214216Z
UID:10000025-1752318000-1752321600@www.apollosunrise.com
SUMMARY:Introduction to Apollo Sunrise Center Info & Connection Session
DESCRIPTION:Introduction to Apollo Sunrise Center: Info & Connection SessionStep Into Possibility. Connect. Collaborate. Co-Create. \nAre you a healer\, teacher\, or facilitator ready to share your gifts in a space that honors your work and uplifts your purpose? \nJoin us for a welcoming and inspiring Introduction to Apollo Sunrise Center—a heart-centered gathering designed for wellness practitioners\, spiritual guides\, and holistic professionals who are curious about becoming part of our thriving and intentional community. \nDuring this interactive session\, you will: \n\n\nLearn about our mission\, values\, and the vision that fuels everything we do \n\n\nExplore opportunities to offer your work through classes\, workshops\, retreats\, or private sessions \n\n\nTour our breathtaking baroque-style retreat center nestled on a horse farm with sweeping views of 20 acres and direct access to 200 acres of conservation land \n\n\nConnect with a like-minded community of practitioners\, creatives\, and change-makers \n\n\nGain clear insight into our space rental process\, facilitation guidelines\, and what makes Apollo Sunrise Center a uniquely supportive and sacred environment \n\n\nThis session is ideal for: \n\n\nWellness practitioners\, energy healers\, therapists\, coaches\, yoga instructors\, artists\, teachers\, and retreat leaders \n\n\nThose who feel called to collaborate in a beautiful\, mission-driven space \n\n\nIndividuals looking for community\, connection\, and a meaningful place to grow their practice \n\n\nWhether you’re just exploring the possibilities or ready to bring your offerings to life\, this session is your first step toward co-creating something truly special at Apollo Sunrise Center.
URL:https://www.apollosunrise.com/event/introduction-to-apollo-sunrise-center-info-connection-session-2/
LOCATION:Apollo Sunrise Center\, 84 Birch Meadow Rd.\, Merrimac\, MA\, United States
CATEGORIES:Free Classes or Groups
ATTACH;FMTTYPE=image/png:https://www.apollosunrise.com/wp-content/uploads/2025/05/406e2f60-62ae-4780-b707-2f59502b5627.png
END:VEVENT
BEGIN:VEVENT
DTSTART;TZID=UTC:20250712T130000
DTEND;TZID=UTC:20250712T143000
DTSTAMP:20260419T113214
CREATED:20250517T011201Z
LAST-MODIFIED:20250701T214334Z
UID:10000026-1752325200-1752330600@www.apollosunrise.com
SUMMARY:Spiritual Exploration Meetup
DESCRIPTION:Spiritual Exploration MeetupReal Conversations. Open Hearts. Expanding Awareness. \nAre you seeking a space where you can explore life’s deeper questions\, share your truth\, and connect with others on a similar path? \nThe Spiritual Exploration Meetup is a welcoming\, heart-centered gathering where open-minded individuals come together to share spiritual experiences\, ask meaningful questions\, and expand their understanding of themselves and the world around them. \nEach session is centered around a thoughtfully chosen theme—ranging from intuition and past lives to healing\, consciousness\, and universal truths—creating space for open dialogue\, personal reflection\, and collective wisdom. \nIn this meetup\, you will: \n\n\nEngage in thoughtful\, supportive conversations on spiritual topics \n\n\nShare your personal experiences and insights in a safe\, nonjudgmental space \n\n\nLearn from the diverse perspectives of others on a spiritual journey \n\n\nDeepen your awareness and feel more connected—to yourself and the collective \n\n\nWhether you’re just beginning your spiritual path or have been walking it for years\, you are welcome here. There’s no dogma\, no pressure—just genuine connection\, soul-nourishing conversation\, and a space to be exactly who you are. \nCome curious. Leave inspired. Return often.
URL:https://www.apollosunrise.com/event/spiritual-exploration-meetup-3/
LOCATION:Apollo Sunrise Center\, 84 Birch Meadow Rd.\, Merrimac\, MA\, United States
CATEGORIES:Free Classes or Groups
ATTACH;FMTTYPE=image/png:https://www.apollosunrise.com/wp-content/uploads/2025/05/c484ffbe-3dac-4b51-8f74-e0d2ce57354a.png
END:VEVENT
BEGIN:VEVENT
DTSTART;TZID=UTC:20250713T110000
DTEND;TZID=UTC:20250713T120000
DTSTAMP:20260419T113214
CREATED:20250517T011438Z
LAST-MODIFIED:20250702T163305Z
UID:10000027-1752404400-1752408000@www.apollosunrise.com
SUMMARY:Restorative Healing Sound Bath
DESCRIPTION:Restorative Healing Sound BathRelax. Release. Realign. \nAllow yourself to fully unwind in this deeply immersive Restorative Healing Sound Bath with Laura Degelmann\, Certified Sound Healer and founder of Soul-full Notes Sound Healing. This soul-soothing session invites you to experience the powerful effects of sound and vibration as a pathway to emotional balance\, energetic alignment\, and deep inner peace. \nWe begin with a gentle\, guided meditation to quiet the mind and ground the body. From there\, you’ll be enveloped in a tapestry of healing tones created by crystal quartz singing bowls\, Koshi chimes\, and other vibrational instruments—all tuned to harmonize your body’s natural frequencies and promote holistic well-being. \nIn this sound bath experience\, you will: \n\n\nGently release tension\, stress\, and energetic blockages \n\n\nRebalance your nervous system and deepen your sense of calm \n\n\nOpen space for emotional healing\, clarity\, and inner peace \n\n\nEnhance your body’s natural ability to restore itself on every level \n\n\nThis session is suitable for all levels of experience. Please bring: a yoga mat\, blanket\, pillow\, or any items to help you feel cozy and supported as you relax into the soundscape. \n** Individuals who have pacemakers\, implanted pumps/devices\, epilepsy\, and women who are in the first 12 weeks of pregnancy are advised not to participate in sound baths. \nStep into this nurturing sanctuary of sound and allow your body\, mind\, and spirit to return to their natural state of harmony.
URL:https://www.apollosunrise.com/event/restorative-healing-sound-bath-2/
LOCATION:Apollo Sunrise Center\, 84 Birch Meadow Rd.\, Merrimac\, MA\, United States
CATEGORIES:Sound Healing
ATTACH;FMTTYPE=image/png:https://www.apollosunrise.com/wp-content/uploads/2025/05/084494be-e9ce-45d1-8b74-810027c64e47.png
END:VEVENT
BEGIN:VEVENT
DTSTART;TZID=UTC:20250713T130000
DTEND;TZID=UTC:20250713T143000
DTSTAMP:20260419T113214
CREATED:20250521T015650Z
LAST-MODIFIED:20250701T214757Z
UID:10000041-1752411600-1752417000@www.apollosunrise.com
SUMMARY:Creative Community Small Project Circle
DESCRIPTION:Creative Community Small Project CircleGather. Create. Connect. \nLooking for a space to express your creativity while connecting with others in a relaxed and welcoming environment? \nJoin us for the Creative Community Small Project Circle—a cozy\, come-as-you-are gathering designed to nourish your creative spirit and foster authentic connection. Whether you’re sketching\, journaling\, collaging\, knitting\, or coloring\, this is your time to settle in\, make progress on your project\, and enjoy meaningful conversation with like-minded souls. \nThere’s no instruction or pressure—just space to create\, share ideas\, and be in the presence of supportive community energy. \nThis gathering is perfect for you if you’d like to: \n\n\nMake space in your life for creative self-expression \n\n\nWork on personal projects in a peaceful and inspiring setting \n\n\nShare and receive encouragement\, insights\, and inspiration \n\n\nConnect with others who value creativity\, mindfulness\, and community \n\n\nBring any small project you’d like to work on—journals\, coloring books\, fiber arts\, vision boards\, sketchbooks\, etc.✨ No paint\, please. ✨ \nWhether you’re working on something specific or just showing up for the vibes\, you’ll leave feeling more connected\, creatively charged\, and uplifted.
URL:https://www.apollosunrise.com/event/creative-community-small-project-circle-3/
LOCATION:Apollo Sunrise Center\, 84 Birch Meadow Rd.\, Merrimac\, MA\, United States
CATEGORIES:Free Classes or Groups
ATTACH;FMTTYPE=image/png:https://www.apollosunrise.com/wp-content/uploads/2025/05/9edf8d25-bc42-4d24-849e-f1e3317b3e5a.png
END:VEVENT
BEGIN:VEVENT
DTSTART;TZID=UTC:20250713T150000
DTEND;TZID=UTC:20250713T163000
DTSTAMP:20260419T113214
CREATED:20250521T015747Z
LAST-MODIFIED:20250710T231910Z
UID:10000042-1752418800-1752424200@www.apollosunrise.com
SUMMARY:Energy Protection Techniques For Empaths
DESCRIPTION:Energy Protection Techniques for EmpathsGround. Shield. Thrive. \nAre you someone who feels everything deeply—absorbing the emotions\, energies\, and even stress of those around you? This immersive workshop is designed specifically for empaths\, intuitives\, and highly sensitive individuals who are ready to strengthen their energetic boundaries and reclaim their personal power. \nIn today’s fast-paced and often overwhelming world\, protecting your energy isn’t a luxury—it’s a necessity. This supportive and practical session will introduce you to a variety of powerful\, easy-to-use tools and techniques to help you stay grounded\, balanced\, and emotionally clear. \nIn this workshop\, you will learn how to: \n\n\nEstablish strong energetic boundaries that support your well-being \n\n\nManage emotional overload and avoid taking on others’ energy \n\n\nClear your energy field and release what isn’t yours \n\n\nPrevent burnout and energetic fatigue before it begins \n\n\nUse practical tools such as breathwork\, visualization\, grounding exercises\, shielding techniques\, and more \n\n\nYou’ll walk away with a personalized toolkit of techniques you can apply immediately—whether you’re at home\, at work\, or in a crowded space. \nThis session is perfect for: \n\n\nEmpaths and sensitive souls who want to feel empowered\, not drained \n\n\nHealers\, practitioners\, caregivers\, and therapists who work closely with others \n\n\nAnyone seeking to create a stronger sense of inner calm and energetic resilience \n\n\nThis is your time to feel lighter\, stronger\, and more in control of your energy.
URL:https://www.apollosunrise.com/event/energy-protection-techniques-for-empaths-2/
LOCATION:Apollo Sunrise Center\, 84 Birch Meadow Rd.\, Merrimac\, MA\, United States
CATEGORIES:Intuition and Mediumship Development
ATTACH;FMTTYPE=image/avif:https://www.apollosunrise.com/wp-content/uploads/2025/05/600_526289737.webp.avif
END:VEVENT
BEGIN:VEVENT
DTSTART;TZID=UTC:20250719T110000
DTEND;TZID=UTC:20250719T133000
DTSTAMP:20260419T113214
CREATED:20250621T203014Z
LAST-MODIFIED:20250702T171049Z
UID:10000054-1752922800-1752931800@www.apollosunrise.com
SUMMARY:Automatic Writing: Connect with Spirit Through Writing
DESCRIPTION:Automatic Writing:\nConnect with Spirit Through Writing with Cheryl Davey\nReceive Guidance. Awaken Intuition. Let Spirit Speak Through You. \nYour journal can become a sacred channel for messages from beyond—if you know how to listen. \nIn this uplifting and accessible workshop\, you’ll learn the art of Automatic Writing: a powerful spiritual practice that helps you connect with your angels\, spirit guides\, and loved ones in spirit through intuitive journaling. With gentle guidance\, you’ll learn how to quiet the mind\, open the heart\, and allow words to flow onto the page from higher realms of wisdom and love. \nIn this class\, you will:\n\nLearn techniques to enter a receptive state for spirit communication\nStrengthen your connection with divine guidance and intuitive insight\nPractice writing exercises to receive clear\, inspired messages\nBuild trust in your ability to receive and interpret spiritual guidance\nExplore your soul’s questions and receive healing\, clarity\, and validation\n\nLed by Cheryl Davey\, an experienced spiritual teacher with over 25 years of practice\, this class is a beautiful blend of practical instruction\, soulful support\, and sacred connection. \nWhat to Bring:\n\nYour favorite journal or notebook\nA pen you love to write with\nA bagged lunch (optional)—we’ll take a short mid-session break\n\n✨ Receive the messages that are meant for you.\n✨ Experience writing as a sacred\, intuitive act.\n✨ Leave feeling lighter\, clearer\, and more connected.
URL:https://www.apollosunrise.com/event/automatic-writing-connect-with-spirit-through-writing/
LOCATION:Apollo Sunrise Center\, 84 Birch Meadow Rd.\, Merrimac\, MA\, United States
CATEGORIES:Workshops for All Learners
ATTACH;FMTTYPE=image/png:https://www.apollosunrise.com/wp-content/uploads/2025/06/b81b97a6-242c-4811-aa81-7e0f5f311b50.png
END:VEVENT
BEGIN:VEVENT
DTSTART;TZID=UTC:20250719T130000
DTEND;TZID=UTC:20250719T143000
DTSTAMP:20260419T113214
CREATED:20250521T015855Z
LAST-MODIFIED:20250701T215220Z
UID:10000043-1752930000-1752935400@www.apollosunrise.com
SUMMARY:Let's Sketch! - Create and Connect
DESCRIPTION:Let’s Sketch – Connect & CreateSlow Down. Tune In. Let Your Creativity Flow. \nTake a break from the busyness of life and enjoy a peaceful\, soul-nourishing sketching session at Apollo Sunrise Center. Surrounded by the natural beauty of horses\, rolling hills\, and open skies\, this 1.5-hour gathering invites you to relax\, reconnect with your creativity\, and enjoy the simple joy of drawing. \nWe’ll begin with a gentle\, guided grounding meditation to calm the mind and open the heart—clearing space for inspiration to come through. \n\nPlease note: This is not an instructional class.It’s an informal\, come-as-you-are creative circle where you’re free to sketch at your own pace without critique or structure. \n\nWhat to Expect: \n\n\nA short guided meditation to center your energy and spark creativity \n\n\nOpen sketching time in a serene environment\, either outdoors or indoors with a view \n\n\nA welcoming space to connect with other artists and creatives \n\n\nOption to share your work or simply enjoy the peaceful group energy \n\n\nPlease bring: \n\n\nA sketchbook and your favorite drawing tools \n\n\nA hard surface to draw on (clipboard or sketchboard) \n\n\nA blanket or portable chair if we meet outdoors \n\n\nAll skill levels are welcome. Whether you’re a professional artist or haven’t sketched in years\, this is your space to relax\, observe\, and create freely. \nWeather permitting\, we’ll gather outdoors. If needed\, we’ll sketch indoors while enjoying the view. \nLet your creativity flow in a beautiful setting designed to inspire presence\, peace\, and artistic expression—no pressure\, just play.
URL:https://www.apollosunrise.com/event/lets-sketch-create-and-connect-2/
LOCATION:Apollo Sunrise Center\, 84 Birch Meadow Rd.\, Merrimac\, MA\, United States
CATEGORIES:Workshops for All Learners
ATTACH;FMTTYPE=image/png:https://www.apollosunrise.com/wp-content/uploads/2025/05/3efaeb74-3fef-4c0e-8d0c-221208cc5477.png
END:VEVENT
BEGIN:VEVENT
DTSTART;TZID=UTC:20250720T150000
DTEND;TZID=UTC:20250720T163000
DTSTAMP:20260419T113214
CREATED:20250517T011652Z
LAST-MODIFIED:20250701T215402Z
UID:10000028-1753023600-1753029000@www.apollosunrise.com
SUMMARY:Vibrate & Recalibrate: A Moving Sound Journey
DESCRIPTION:Vibrate & Recalibrate: A Moving Sound Journeywith Gina Minyard & GershoneMove. Breathe. Chant. Awaken. \nStep into a deeply immersive\, soul-stirring experience that fuses yoga\, sound\, mantra\, and movement to unlock the healing power within you. Vibrate & Recalibrate is a journey of energetic expansion and inner transformation—a space to move your body\, awaken your voice\, and reconnect with the vibration of your highest self. \nThrough heart-centered guidance\, live mantra music\, breathwork\, and sound healing\, you’ll open to the wisdom of your body and the medicine of your voice in a supportive\, sacred container. \nThis experience includes: \n\n\nInspirational heart-guidance and live mantra music to stir the soul \n\n\nAccessible all-levels yoga and intuitive movement to awaken inner flow \n\n\nEmpowered breathwork and vocal toning to free your voice and clear energetic blocks \n\n\nVibrational meditation to harmonize the nervous system \n\n\nBlissful kirtan-style chanting to uplift the spirit \n\n\nDeep relaxation and integration to anchor healing \n\n\nSacred community connection for shared resonance and renewal \n\n\nTogether\, we’ll move energy\, release stuck patterns\, and recalibrate our frequency—not just for ourselves\, but for the healing and upliftment of all beings. \n\nNo experience is necessary. All levels are welcome.
URL:https://www.apollosunrise.com/event/vibrate-recalibrate-a-moving-sound-journey/
LOCATION:Apollo Sunrise Center\, 84 Birch Meadow Rd.\, Merrimac\, MA\, United States
CATEGORIES:Special EVENTS
ATTACH;FMTTYPE=image/png:https://www.apollosunrise.com/wp-content/uploads/2025/05/f7c96fb7-8ea5-43b7-beb5-f04deede48da-2.png
END:VEVENT
BEGIN:VEVENT
DTSTART;TZID=UTC:20250723T180000
DTEND;TZID=UTC:20250723T193000
DTSTAMP:20260419T113214
CREATED:20250619T205940Z
LAST-MODIFIED:20250701T215643Z
UID:10000052-1753293600-1753299000@www.apollosunrise.com
SUMMARY:Soft Landings: Set with the Sun Yoga Session
DESCRIPTION:Soft Landings: Set with the Sun Yoga Sessionwith Suzanne SteinerGentle Movement. Deep Rest. Soulful Stillness. \nIn a world that rarely slows down\, Soft Landings offers a sacred pause—a place to exhale\, soften\, and return home to yourself. Set against the backdrop of the setting sun\, this 90-minute yoga experience invites you to move with intention and rest with purpose. \nThrough a combination of slow\, mindful movement\, breathwork\, and restorative postures\, you’ll be guided into a state of grounded presence and nervous system regulation. Like leaves drifting to the earth or waves easing toward the shore\, this practice is an invitation to surrender to the wisdom of your body and the healing power of stillness. \nIn this session\, you will: \n\n\nGently unwind with accessible\, meditative movement \n\n\nDeeply nourish your body with long-held restorative poses \n\n\nLearn breath-based techniques to calm the mind and support emotional balance \n\n\nExperience a full-body reset that soothes stress and invites deep rest \n\n\nReconnect with your inner rhythm in a peaceful\, heart-centered environment \n\n\nWhether you’re arriving feeling tired\, tender\, anxious\, or simply seeking peace\, Soft Landings is a space to land gently—just as you are. \n\nThis class is designed for outdoor practice to align with the rhythms of nature and the setting sun.Weather permitting. If needed\, we will gather indoors at Apollo Sunrise Center with a view of the sunset sky. \n\nNo experience needed. This class is perfect for all levels\, especially those seeking gentle movement and restorative healing.
URL:https://www.apollosunrise.com/event/soft-landings-set-with-the-sun-yoga-session/
LOCATION:Apollo Sunrise Center\, 84 Birch Meadow Rd.\, Merrimac\, MA\, United States
CATEGORIES:Workshops for All Learners
ATTACH;FMTTYPE=image/png:https://www.apollosunrise.com/wp-content/uploads/2025/06/e23a4527-39fc-4eed-8c4d-d0d79861bfe3.png
END:VEVENT
BEGIN:VEVENT
DTSTART;TZID=UTC:20250726T110000
DTEND;TZID=UTC:20250726T140000
DTSTAMP:20260419T113214
CREATED:20250619T210458Z
LAST-MODIFIED:20250701T215833Z
UID:10000053-1753527600-1753538400@www.apollosunrise.com
SUMMARY:Mala Bead Workshop
DESCRIPTION:Mala Bead Workshopwith Spiritual Life Coach Ebonique FariaCreate with Intention. Craft with Meaning. \nStep into a peaceful\, heart-centered space where creativity meets spirituality. In this hands-on Mala Bead Workshop\, you’ll explore the sacred art of mala making and design your very own personalized mala necklace—infused with intention\, mindfulness\, and your unique energy. \nLed by Spiritual Life Coach Ebonique Faria\, this workshop is more than just a crafting session—it’s a journey of self-connection\, spiritual alignment\, and creative expression. As you select each bead and tie each knot\, you’ll be anchoring your intentions and creating a tangible tool to support your meditation practice\, healing work\, or daily rituals. \nIn this workshop\, you will: \n\n\nLearn the meaning and traditional use of mala beads in spiritual and meditative practices \n\n\nSelect from a variety of natural materials and gemstones to reflect your personal intentions \n\n\nDesign and handcraft your own 108-bead mala necklace\, step by step \n\n\nInfuse your creation with your energy\, focus\, and purpose \n\n\nEnjoy a calm\, supportive environment with like-minded souls \n\n\nNo experience necessary. This is a beginner-friendly\, soulful experience designed for anyone looking to create with deeper meaning. \n\nAll materials are provided.You’ll leave with a completed mala and the knowledge of how to use it as a spiritual tool for grounding\, focus\, and intention setting. \n\nGive yourself the gift of creativity\, clarity\, and calm—and take home a powerful piece that reflects the beauty of your own inner journey.
URL:https://www.apollosunrise.com/event/mala-bead-workshop/
LOCATION:Apollo Sunrise Center\, 84 Birch Meadow Rd.\, Merrimac\, MA\, United States
CATEGORIES:Workshops for All Learners
END:VEVENT
BEGIN:VEVENT
DTSTART;TZID=UTC:20250727T110000
DTEND;TZID=UTC:20250727T130000
DTSTAMP:20260419T113214
CREATED:20250605T012637Z
LAST-MODIFIED:20250702T171400Z
UID:10000048-1753614000-1753621200@www.apollosunrise.com
SUMMARY:Activate Happiness Workshop with Cyndie Morgan
DESCRIPTION:Activate HappinessA Creative Mindset Workshop with Cyndie MorganAlign Your Energy. Elevate Your Joy. Manifest What Lights You Up.2-Hour Workshop | All Materials Included \nReady to shift your mindset\, raise your frequency\, and reconnect with joy? The Activate Happiness Workshop is a high-vibe\, hands-on experience designed to help you tap into the Law of Attraction\, unlock your creative flow\, and make mindset magic—no experience necessary. \nLed by Cyndie Morgan\, this inspiring session blends practical mindset tools with playful creativity as you design your very own Activation Cards—mini reminders to keep your energy aligned with clarity\, confidence\, and happiness long after the workshop ends. \nIn this workshop\, you will:\n\n\nLearn how to “flip the script” on negative or limiting thoughts \n\n\nDiscover the real-world power of thoughts\, emotions\, and energy alignment \n\n\nExplore practical tools for staying focused\, grounded\, and energetically clear \n\n\nGet inspired by examples of Activation Cards to spark your own creations \n\n\nDesign a custom set of personalized cards that speak to your highest vision and joy \n\n\nYou’ll walk away with:\n\n\nYour own set of handmade Activation Cards—colorful\, intentional tools to keep your mindset high \n\n\nA renewed sense of clarity\, joy\, and empowerment \n\n\nCreative inspiration and practical insight to support ongoing manifestation \n\n\nWorkshop Flow:\n\n\n45-minute presentation: Learn mindset techniques and Law of Attraction principles \n\n\n75-minute creative session: Make your Activation Cards with full support and guidance \n\n\nAll materials are provided\, including:\n\n\nIndex cards\, stickers\, markers\, colored pencils\, and a binder ring to keep your cards together \n\n\nA handout with inspiration\, sample phrases\, and creative prompts
URL:https://www.apollosunrise.com/event/activate-happiness-workshop-with-cyndie-morgan/
LOCATION:Apollo Sunrise Center\, 84 Birch Meadow Rd.\, Merrimac\, MA\, United States
CATEGORIES:Workshops for All Learners
ATTACH;FMTTYPE=image/png:https://www.apollosunrise.com/wp-content/uploads/2025/06/f805a6f3-02b3-456b-a4e6-ebda04e63946.png
END:VEVENT
BEGIN:VEVENT
DTSTART;TZID=UTC:20250727T130000
DTEND;TZID=UTC:20250727T150000
DTSTAMP:20260419T113214
CREATED:20250701T234158Z
LAST-MODIFIED:20250701T235247Z
UID:10000055-1753621200-1753628400@www.apollosunrise.com
SUMMARY:The Planets Tell Your Story
DESCRIPTION:The Planets Tell Your StoryA Guided Introduction to Your Natal Chart with Paula Keymont \nYour birth chart is more than just your zodiac sign—it’s a personal celestial blueprint that reveals profound insight into who you are\, why you’re here\, and how to navigate your life with more clarity and purpose. \nIn this empowering 2-hour workshop\, you’ll be guided through the foundations of natal (birth) chart interpretation\, using your unique date\, time\, and place of birth. Whether you’re completely new to astrology or have dabbled before\, this session will help you unlock the mysteries of your own cosmic map. \nIn this class\, you will:\n\n\nLearn how your Sun\, Moon\, and Ascendant influence your personality\, emotional landscape\, and life direction \n\n\nDiscover how planetary placements reflect your natural gifts\, life challenges\, and spiritual lessons \n\n\nGain tools to better understand your motivations\, relationships\, and decision-making patterns \n\n\nBegin to interpret your chart as a guide for self-awareness\, healing\, and growth \n\n\nExplore the deeper cycles and timing that influence your life path \n\n\nThis is an invitation to explore your inner world through the lens of the cosmos—to see yourself more clearly\, and to feel supported by the rhythm and design of the Universe. \n\nNo prior astrology knowledge is required.Just bring your birth date\, time\, and location\, along with an open heart and mind. \n\n✨ Gain insight.✨ Embrace your soul’s design.✨ Begin to align with the greater story of you.
URL:https://www.apollosunrise.com/event/the-planets-tell-your-story/
LOCATION:Apollo Sunrise Center\, 84 Birch Meadow Rd.\, Merrimac\, MA\, United States
CATEGORIES:Workshops for All Learners
ATTACH;FMTTYPE=image/png:https://www.apollosunrise.com/wp-content/uploads/2025/07/84496dc2-9486-4ec0-a648-fbee85aba603.png
END:VEVENT
END:VCALENDAR